BEGIN:VCALENDAR
VERSION:2.0
PRODID:-//Jarrell Education - Morris County, NJ - ECPv6.15.20//NONSGML v1.0//EN
CALSCALE:GREGORIAN
METHOD:PUBLISH
X-WR-CALNAME:Jarrell Education - Morris County, NJ
X-ORIGINAL-URL:https://jarrelleducation.com
X-WR-CALDESC:Events for Jarrell Education - Morris County, NJ
REFRESH-INTERVAL;VALUE=DURATION:PT1H
X-Robots-Tag:noindex
X-PUBLISHED-TTL:PT1H
BEGIN:VTIMEZONE
TZID:UTC
BEGIN:STANDARD
TZOFFSETFROM:+0000
TZOFFSETTO:+0000
TZNAME:UTC
DTSTART:20240101T000000
END:STANDARD
END:VTIMEZONE
BEGIN:VEVENT
DTSTART;TZID=UTC:20250817T170000
DTEND;TZID=UTC:20250817T210000
DTSTAMP:20260423T181036
CREATED:20250318T131107Z
LAST-MODIFIED:20250804T162716Z
UID:10000088-1755450000-1755464400@jarrelleducation.com
SUMMARY:SAT Boot Camp (Class is full 1:1 still available)
DESCRIPTION:Class is full as of 7/1\, 1:1 tutoring is still available \nSign up with a friend and both save 15% – 24 Hours of Test Prep \nIn-Person prep for the August TEST: class starts on 8/17 \n10 spots\, Sunday – Friday 5-9 PM \nSunday\, August 17\, 5:00-9:00 PM \nMonday\, August 18\, 5:00-9:00 PM \nTuesday\, August 19\, 5:00-9:00 PM \nWednesday\, August 20\, 5:00-9:00 PM \nThursday\, August 21\, 5:00-9:00 PM \nFriday\, August 22\, 5:00 – 9:00 \nSAT  Test is Saturday\, August 23rd; don’t forget to register! \nTotal Cost: $1289 \nIf you have any questions\, please email ilene@JarrellEducation.com or call (973) 919-8343. \n\n\n                \n                        \n                            SAT Prep Course Registration\n                             \n                        \n                        Date of Test*...so we know which class you're signing up for.\n                                            \n                                            Month\n                                        \n                                            \n                                            Day\n                                        \n                                            \n                                            Year\n                                       \n                                   Are you signing up with a friend?*Get 15% off when you sign up with a friend!\n			\n				\n				No\n			\n			\n				\n				Yes\n			Student's Name*\n                            \n                            \n                                                    \n                                                    First\n                                                \n                            \n                            \n                                                    \n                                                    Last\n                                                \n                            \n                        Student's Email*\n                            \n                        Parent's Name*\n                            \n                            \n                                                    \n                                                    First\n                                                \n                            \n                            \n                                                    \n                                                    Last\n                                                \n                            \n                        Parent's Email*\n                            \n                        Home / Parent's Phone*Current Grade*\n			\n				\n				9th\n			\n			\n				\n				10th\n			\n			\n				\n				11th\n			\n			\n				\n				12th\n			Current High School*Student's Name #2 (Friend's name)*\n                            \n                            \n                                                    \n                                                    First\n                                                \n                            \n                            \n                                                    \n                                                    Last\n                                                \n                            \n                        Parent's Email #2 (Parent of friend)\n                            \n                        Home / Parent's Phone #2 (Parent of friend)SAT Prep Course\n					\n					\n						Price:\n						\n					\n					\n				SAT Prep Course (with a friend)\n					\n					\n						Price:\n						\n					\n					\n				Payment MethodPayPal Checkout\n                                    MasterCardVisaSupported Credit Cards: MasterCard\, Visa\n                                    \n                                    Card Number\n                                 \n                                            \n                                                \n                                                Expiration Date\n                                            \n                                                \n                                                 \n                                                Security Code\n                                             \n                                        \n                                            \n                                            Cardholder Name
URL:https://jarrelleducation.com/course/sat-boot-camp-2/
LOCATION:Jarrell Education\, 14 Romaine Road\, Mountain Lakes\, NJ\, 07046\, United States
CATEGORIES:SAT Prep Course
ATTACH;FMTTYPE=image/jpeg:https://jarrelleducation.com/wp-content/uploads/2017/08/featured-nj-prep-couse.jpg
ORGANIZER;CN="Jarrell Education":MAILTO:info@jarrelleducation.com
GEO:40.885405;-74.4353024
X-APPLE-STRUCTURED-LOCATION;VALUE=URI;X-ADDRESS=Jarrell Education 14 Romaine Road Mountain Lakes NJ 07046 United States;X-APPLE-RADIUS=500;X-TITLE=14 Romaine Road:geo:-74.4353024,40.885405
END:VEVENT
BEGIN:VEVENT
DTSTART;TZID=UTC:20250824T130000
DTEND;TZID=UTC:20250824T170000
DTSTAMP:20260423T181036
CREATED:20250711T225340Z
LAST-MODIFIED:20250711T233633Z
UID:10000089-1756040400-1756054800@jarrelleducation.com
SUMMARY:SAT Prep Course (October SAT)
DESCRIPTION:Sign up with a friend and both save 15% – 26 Hours of Test Prep\nIn-Person prep for the October test: class starts on August 24th\n10 spots\n26 hours of prep \nSundays – 1:00 PM – 5:00 PM \nAugust 24th\, 1:00 PM – 5:00 PM \nAugust 31st\, 1:00 PM – 5:00 PM \nSeptember 7th\, 1:00 PM – 5:00 PM \nSeptember 14th\, 1:00 PM – 5:00 PM \nSeptember 21st\, 1:00 PM – 5:00 PM \nSeptember 28th\, 1:00 PM – 5:00 PM \nOctober 3rd –  Friday Night Review 5:00 PM-7:00 PM \n$1289 \nIf you have any questions\, please email ilene@JarrellEducation.com or call (973) 919-8343. \n\n                \n                        \n                            SAT Prep Course Registration\n                             \n                        \n                        Date of Test*...so we know which class you're signing up for.\n                                            \n                                            Month\n                                        \n                                            \n                                            Day\n                                        \n                                            \n                                            Year\n                                       \n                                   Are you signing up with a friend?*Get 15% off when you sign up with a friend!\n			\n				\n				No\n			\n			\n				\n				Yes\n			Student's Name*\n                            \n                            \n                                                    \n                                                    First\n                                                \n                            \n                            \n                                                    \n                                                    Last\n                                                \n                            \n                        Student's Email*\n                            \n                        Parent's Name*\n                            \n                            \n                                                    \n                                                    First\n                                                \n                            \n                            \n                                                    \n                                                    Last\n                                                \n                            \n                        Parent's Email*\n                            \n                        Home / Parent's Phone*Current Grade*\n			\n				\n				9th\n			\n			\n				\n				10th\n			\n			\n				\n				11th\n			\n			\n				\n				12th\n			Current High School*Student's Name #2 (Friend's name)*\n                            \n                            \n                                                    \n                                                    First\n                                                \n                            \n                            \n                                                    \n                                                    Last\n                                                \n                            \n                        Parent's Email #2 (Parent of friend)\n                            \n                        Home / Parent's Phone #2 (Parent of friend)SAT Prep Course\n					\n					\n						Price:\n						\n					\n					\n				SAT Prep Course (with a friend)\n					\n					\n						Price:\n						\n					\n					\n				Payment MethodPayPal Checkout\n                                    MasterCardVisaSupported Credit Cards: MasterCard\, Visa\n                                    \n                                    Card Number\n                                 \n                                            \n                                                \n                                                Expiration Date\n                                            \n                                                \n                                                 \n                                                Security Code\n                                             \n                                        \n                                            \n                                            Cardholder Name
URL:https://jarrelleducation.com/course/sat-prep-course-october-sat/
LOCATION:Jarrell Education\, 14 Romaine Road\, Mountain Lakes\, NJ\, 07046\, United States
CATEGORIES:SAT Prep Course
ATTACH;FMTTYPE=image/jpeg:https://jarrelleducation.com/wp-content/uploads/2017/08/featured-nj-prep-couse.jpg
ORGANIZER;CN="Jarrell Education":MAILTO:info@jarrelleducation.com
GEO:40.885405;-74.4353024
X-APPLE-STRUCTURED-LOCATION;VALUE=URI;X-ADDRESS=Jarrell Education 14 Romaine Road Mountain Lakes NJ 07046 United States;X-APPLE-RADIUS=500;X-TITLE=14 Romaine Road:geo:-74.4353024,40.885405
END:VEVENT
END:VCALENDAR